BEGIN:VCALENDAR
VERSION:2.0
PRODID:-//Best Acting Classes Near Me - Actors Academy Las Vegas NV - ECPv6.15.20//NONSGML v1.0//EN
CALSCALE:GREGORIAN
METHOD:PUBLISH
X-WR-CALNAME:Best Acting Classes Near Me - Actors Academy Las Vegas NV
X-ORIGINAL-URL:https://goldmanpennentertainment.com
X-WR-CALDESC:Events for Best Acting Classes Near Me - Actors Academy Las Vegas NV
REFRESH-INTERVAL;VALUE=DURATION:PT1H
X-Robots-Tag:noindex
X-PUBLISHED-TTL:PT1H
BEGIN:VTIMEZONE
TZID:America/Los_Angeles
BEGIN:DAYLIGHT
TZOFFSETFROM:-0800
TZOFFSETTO:-0700
TZNAME:PDT
DTSTART:20270314T100000
END:DAYLIGHT
BEGIN:STANDARD
TZOFFSETFROM:-0700
TZOFFSETTO:-0800
TZNAME:PST
DTSTART:20271107T090000
END:STANDARD
BEGIN:DAYLIGHT
TZOFFSETFROM:-0800
TZOFFSETTO:-0700
TZNAME:PDT
DTSTART:20280312T100000
END:DAYLIGHT
BEGIN:STANDARD
TZOFFSETFROM:-0700
TZOFFSETTO:-0800
TZNAME:PST
DTSTART:20281105T090000
END:STANDARD
BEGIN:DAYLIGHT
TZOFFSETFROM:-0800
TZOFFSETTO:-0700
TZNAME:PDT
DTSTART:20290311T100000
END:DAYLIGHT
BEGIN:STANDARD
TZOFFSETFROM:-0700
TZOFFSETTO:-0800
TZNAME:PST
DTSTART:20291104T090000
END:STANDARD
END:VTIMEZONE
BEGIN:VEVENT
DTSTART;TZID=America/Los_Angeles:20281104T093000
DTEND;TZID=America/Los_Angeles:20281104T110000
DTSTAMP:20260425T052518
CREATED:20250423T225727Z
LAST-MODIFIED:20250712T181656Z
UID:10005326-1856943000-1856948400@goldmanpennentertainment.com
SUMMARY:Youth Acting (5 through 10)
DESCRIPTION:
URL:https://goldmanpennentertainment.com/event/youth-acting-5-through-12-2/2028-11-04/
END:VEVENT
BEGIN:VEVENT
DTSTART;TZID=America/Los_Angeles:20281104T113000
DTEND;TZID=America/Los_Angeles:20281104T130000
DTSTAMP:20260425T052518
CREATED:20250423T225944Z
LAST-MODIFIED:20250712T181533Z
UID:10005057-1856950200-1856955600@goldmanpennentertainment.com
SUMMARY:Youth Acting (11-17)
DESCRIPTION:
URL:https://goldmanpennentertainment.com/event/youth-acting-11-17/2028-11-04/
END:VEVENT
BEGIN:VEVENT
DTSTART;TZID=America/Los_Angeles:20281111T093000
DTEND;TZID=America/Los_Angeles:20281111T110000
DTSTAMP:20260425T052518
CREATED:20250423T225727Z
LAST-MODIFIED:20250712T181656Z
UID:10005327-1857547800-1857553200@goldmanpennentertainment.com
SUMMARY:Youth Acting (5 through 10)
DESCRIPTION:
URL:https://goldmanpennentertainment.com/event/youth-acting-5-through-12-2/2028-11-11/
END:VEVENT
BEGIN:VEVENT
DTSTART;TZID=America/Los_Angeles:20281111T113000
DTEND;TZID=America/Los_Angeles:20281111T130000
DTSTAMP:20260425T052518
CREATED:20250423T225944Z
LAST-MODIFIED:20250712T181533Z
UID:10005058-1857555000-1857560400@goldmanpennentertainment.com
SUMMARY:Youth Acting (11-17)
DESCRIPTION:
URL:https://goldmanpennentertainment.com/event/youth-acting-11-17/2028-11-11/
END:VEVENT
BEGIN:VEVENT
DTSTART;TZID=America/Los_Angeles:20281118T093000
DTEND;TZID=America/Los_Angeles:20281118T110000
DTSTAMP:20260425T052518
CREATED:20250423T225727Z
LAST-MODIFIED:20250712T181656Z
UID:10005328-1858152600-1858158000@goldmanpennentertainment.com
SUMMARY:Youth Acting (5 through 10)
DESCRIPTION:
URL:https://goldmanpennentertainment.com/event/youth-acting-5-through-12-2/2028-11-18/
END:VEVENT
BEGIN:VEVENT
DTSTART;TZID=America/Los_Angeles:20281118T113000
DTEND;TZID=America/Los_Angeles:20281118T130000
DTSTAMP:20260425T052518
CREATED:20250423T225944Z
LAST-MODIFIED:20250712T181533Z
UID:10005059-1858159800-1858165200@goldmanpennentertainment.com
SUMMARY:Youth Acting (11-17)
DESCRIPTION:
URL:https://goldmanpennentertainment.com/event/youth-acting-11-17/2028-11-18/
END:VEVENT
BEGIN:VEVENT
DTSTART;TZID=America/Los_Angeles:20281125T093000
DTEND;TZID=America/Los_Angeles:20281125T110000
DTSTAMP:20260425T052518
CREATED:20250423T225727Z
LAST-MODIFIED:20250712T181656Z
UID:10005329-1858757400-1858762800@goldmanpennentertainment.com
SUMMARY:Youth Acting (5 through 10)
DESCRIPTION:
URL:https://goldmanpennentertainment.com/event/youth-acting-5-through-12-2/2028-11-25/
END:VEVENT
BEGIN:VEVENT
DTSTART;TZID=America/Los_Angeles:20281125T113000
DTEND;TZID=America/Los_Angeles:20281125T130000
DTSTAMP:20260425T052518
CREATED:20250423T225944Z
LAST-MODIFIED:20250712T181533Z
UID:10005060-1858764600-1858770000@goldmanpennentertainment.com
SUMMARY:Youth Acting (11-17)
DESCRIPTION:
URL:https://goldmanpennentertainment.com/event/youth-acting-11-17/2028-11-25/
END:VEVENT
END:VCALENDAR