BEGIN:VCALENDAR
VERSION:2.0
PRODID:-//Best Acting Classes Near Me - Actors Academy Las Vegas NV - ECPv6.15.20//NONSGML v1.0//EN
CALSCALE:GREGORIAN
METHOD:PUBLISH
X-WR-CALNAME:Best Acting Classes Near Me - Actors Academy Las Vegas NV
X-ORIGINAL-URL:https://goldmanpennentertainment.com
X-WR-CALDESC:Events for Best Acting Classes Near Me - Actors Academy Las Vegas NV
REFRESH-INTERVAL;VALUE=DURATION:PT1H
X-Robots-Tag:noindex
X-PUBLISHED-TTL:PT1H
BEGIN:VTIMEZONE
TZID:America/Los_Angeles
BEGIN:DAYLIGHT
TZOFFSETFROM:-0800
TZOFFSETTO:-0700
TZNAME:PDT
DTSTART:20280312T100000
END:DAYLIGHT
BEGIN:STANDARD
TZOFFSETFROM:-0700
TZOFFSETTO:-0800
TZNAME:PST
DTSTART:20281105T090000
END:STANDARD
BEGIN:DAYLIGHT
TZOFFSETFROM:-0800
TZOFFSETTO:-0700
TZNAME:PDT
DTSTART:20290311T100000
END:DAYLIGHT
BEGIN:STANDARD
TZOFFSETFROM:-0700
TZOFFSETTO:-0800
TZNAME:PST
DTSTART:20291104T090000
END:STANDARD
BEGIN:DAYLIGHT
TZOFFSETFROM:-0800
TZOFFSETTO:-0700
TZNAME:PDT
DTSTART:20300310T100000
END:DAYLIGHT
BEGIN:STANDARD
TZOFFSETFROM:-0700
TZOFFSETTO:-0800
TZNAME:PST
DTSTART:20301103T090000
END:STANDARD
END:VTIMEZONE
BEGIN:VEVENT
DTSTART;TZID=America/Los_Angeles:20290106T093000
DTEND;TZID=America/Los_Angeles:20290106T110000
DTSTAMP:20260425T083607
CREATED:20250423T225727Z
LAST-MODIFIED:20250712T181656Z
UID:10005335-1862386200-1862391600@goldmanpennentertainment.com
SUMMARY:Youth Acting (5 through 10)
DESCRIPTION:
URL:https://goldmanpennentertainment.com/event/youth-acting-5-through-12-2/2029-01-06/
END:VEVENT
BEGIN:VEVENT
DTSTART;TZID=America/Los_Angeles:20290106T113000
DTEND;TZID=America/Los_Angeles:20290106T130000
DTSTAMP:20260425T083607
CREATED:20250423T225944Z
LAST-MODIFIED:20250712T181533Z
UID:10005066-1862393400-1862398800@goldmanpennentertainment.com
SUMMARY:Youth Acting (11-17)
DESCRIPTION:
URL:https://goldmanpennentertainment.com/event/youth-acting-11-17/2029-01-06/
END:VEVENT
BEGIN:VEVENT
DTSTART;TZID=America/Los_Angeles:20290113T093000
DTEND;TZID=America/Los_Angeles:20290113T110000
DTSTAMP:20260425T083607
CREATED:20250423T225727Z
LAST-MODIFIED:20250712T181656Z
UID:10005336-1862991000-1862996400@goldmanpennentertainment.com
SUMMARY:Youth Acting (5 through 10)
DESCRIPTION:
URL:https://goldmanpennentertainment.com/event/youth-acting-5-through-12-2/2029-01-13/
END:VEVENT
BEGIN:VEVENT
DTSTART;TZID=America/Los_Angeles:20290113T113000
DTEND;TZID=America/Los_Angeles:20290113T130000
DTSTAMP:20260425T083607
CREATED:20250423T225944Z
LAST-MODIFIED:20250712T181533Z
UID:10005067-1862998200-1863003600@goldmanpennentertainment.com
SUMMARY:Youth Acting (11-17)
DESCRIPTION:
URL:https://goldmanpennentertainment.com/event/youth-acting-11-17/2029-01-13/
END:VEVENT
BEGIN:VEVENT
DTSTART;TZID=America/Los_Angeles:20290120T093000
DTEND;TZID=America/Los_Angeles:20290120T110000
DTSTAMP:20260425T083607
CREATED:20250423T225727Z
LAST-MODIFIED:20250712T181656Z
UID:10005337-1863595800-1863601200@goldmanpennentertainment.com
SUMMARY:Youth Acting (5 through 10)
DESCRIPTION:
URL:https://goldmanpennentertainment.com/event/youth-acting-5-through-12-2/2029-01-20/
END:VEVENT
BEGIN:VEVENT
DTSTART;TZID=America/Los_Angeles:20290120T113000
DTEND;TZID=America/Los_Angeles:20290120T130000
DTSTAMP:20260425T083607
CREATED:20250423T225944Z
LAST-MODIFIED:20250712T181533Z
UID:10005068-1863603000-1863608400@goldmanpennentertainment.com
SUMMARY:Youth Acting (11-17)
DESCRIPTION:
URL:https://goldmanpennentertainment.com/event/youth-acting-11-17/2029-01-20/
END:VEVENT
BEGIN:VEVENT
DTSTART;TZID=America/Los_Angeles:20290127T093000
DTEND;TZID=America/Los_Angeles:20290127T110000
DTSTAMP:20260425T083607
CREATED:20250423T225727Z
LAST-MODIFIED:20250712T181656Z
UID:10005338-1864200600-1864206000@goldmanpennentertainment.com
SUMMARY:Youth Acting (5 through 10)
DESCRIPTION:
URL:https://goldmanpennentertainment.com/event/youth-acting-5-through-12-2/2029-01-27/
END:VEVENT
BEGIN:VEVENT
DTSTART;TZID=America/Los_Angeles:20290127T113000
DTEND;TZID=America/Los_Angeles:20290127T130000
DTSTAMP:20260425T083607
CREATED:20250423T225944Z
LAST-MODIFIED:20250712T181533Z
UID:10005069-1864207800-1864213200@goldmanpennentertainment.com
SUMMARY:Youth Acting (11-17)
DESCRIPTION:
URL:https://goldmanpennentertainment.com/event/youth-acting-11-17/2029-01-27/
END:VEVENT
END:VCALENDAR