BEGIN:VCALENDAR
VERSION:2.0
PRODID:-//Best Acting Classes Near Me - Actors Academy Las Vegas NV - ECPv6.15.20//NONSGML v1.0//EN
CALSCALE:GREGORIAN
METHOD:PUBLISH
X-ORIGINAL-URL:https://goldmanpennentertainment.com
X-WR-CALDESC:Events for Best Acting Classes Near Me - Actors Academy Las Vegas NV
REFRESH-INTERVAL;VALUE=DURATION:PT1H
X-Robots-Tag:noindex
X-PUBLISHED-TTL:PT1H
BEGIN:VTIMEZONE
TZID:America/Los_Angeles
BEGIN:DAYLIGHT
TZOFFSETFROM:-0800
TZOFFSETTO:-0700
TZNAME:PDT
DTSTART:20280312T100000
END:DAYLIGHT
BEGIN:STANDARD
TZOFFSETFROM:-0700
TZOFFSETTO:-0800
TZNAME:PST
DTSTART:20281105T090000
END:STANDARD
BEGIN:DAYLIGHT
TZOFFSETFROM:-0800
TZOFFSETTO:-0700
TZNAME:PDT
DTSTART:20290311T100000
END:DAYLIGHT
BEGIN:STANDARD
TZOFFSETFROM:-0700
TZOFFSETTO:-0800
TZNAME:PST
DTSTART:20291104T090000
END:STANDARD
BEGIN:DAYLIGHT
TZOFFSETFROM:-0800
TZOFFSETTO:-0700
TZNAME:PDT
DTSTART:20300310T100000
END:DAYLIGHT
BEGIN:STANDARD
TZOFFSETFROM:-0700
TZOFFSETTO:-0800
TZNAME:PST
DTSTART:20301103T090000
END:STANDARD
END:VTIMEZONE
BEGIN:VEVENT
DTSTART;TZID=America/Los_Angeles:20290303T093000
DTEND;TZID=America/Los_Angeles:20290303T110000
DTSTAMP:20260425T114628
CREATED:20250423T225727Z
LAST-MODIFIED:20250712T181656Z
UID:10005343-1867224600-1867230000@goldmanpennentertainment.com
SUMMARY:Youth Acting (5 through 10)
DESCRIPTION:
URL:https://goldmanpennentertainment.com/event/youth-acting-5-through-12-2/2029-03-03/
END:VEVENT
BEGIN:VEVENT
DTSTART;TZID=America/Los_Angeles:20290303T113000
DTEND;TZID=America/Los_Angeles:20290303T130000
DTSTAMP:20260425T114628
CREATED:20250423T225944Z
LAST-MODIFIED:20250712T181533Z
UID:10005074-1867231800-1867237200@goldmanpennentertainment.com
SUMMARY:Youth Acting (11-17)
DESCRIPTION:
URL:https://goldmanpennentertainment.com/event/youth-acting-11-17/2029-03-03/
END:VEVENT
BEGIN:VEVENT
DTSTART;TZID=America/Los_Angeles:20290310T093000
DTEND;TZID=America/Los_Angeles:20290310T110000
DTSTAMP:20260425T114628
CREATED:20250423T225727Z
LAST-MODIFIED:20250712T181656Z
UID:10005344-1867829400-1867834800@goldmanpennentertainment.com
SUMMARY:Youth Acting (5 through 10)
DESCRIPTION:
URL:https://goldmanpennentertainment.com/event/youth-acting-5-through-12-2/2029-03-10/
END:VEVENT
BEGIN:VEVENT
DTSTART;TZID=America/Los_Angeles:20290310T113000
DTEND;TZID=America/Los_Angeles:20290310T130000
DTSTAMP:20260425T114628
CREATED:20250423T225944Z
LAST-MODIFIED:20250712T181533Z
UID:10005075-1867836600-1867842000@goldmanpennentertainment.com
SUMMARY:Youth Acting (11-17)
DESCRIPTION:
URL:https://goldmanpennentertainment.com/event/youth-acting-11-17/2029-03-10/
END:VEVENT
BEGIN:VEVENT
DTSTART;TZID=America/Los_Angeles:20290317T093000
DTEND;TZID=America/Los_Angeles:20290317T110000
DTSTAMP:20260425T114628
CREATED:20250423T225727Z
LAST-MODIFIED:20250712T181656Z
UID:10005345-1868434200-1868439600@goldmanpennentertainment.com
SUMMARY:Youth Acting (5 through 10)
DESCRIPTION:
URL:https://goldmanpennentertainment.com/event/youth-acting-5-through-12-2/2029-03-17/
END:VEVENT
BEGIN:VEVENT
DTSTART;TZID=America/Los_Angeles:20290317T113000
DTEND;TZID=America/Los_Angeles:20290317T130000
DTSTAMP:20260425T114628
CREATED:20250423T225944Z
LAST-MODIFIED:20250712T181533Z
UID:10005076-1868441400-1868446800@goldmanpennentertainment.com
SUMMARY:Youth Acting (11-17)
DESCRIPTION:
URL:https://goldmanpennentertainment.com/event/youth-acting-11-17/2029-03-17/
END:VEVENT
BEGIN:VEVENT
DTSTART;TZID=America/Los_Angeles:20290324T093000
DTEND;TZID=America/Los_Angeles:20290324T110000
DTSTAMP:20260425T114629
CREATED:20250423T225727Z
LAST-MODIFIED:20250712T181656Z
UID:10005346-1869039000-1869044400@goldmanpennentertainment.com
SUMMARY:Youth Acting (5 through 10)
DESCRIPTION:
URL:https://goldmanpennentertainment.com/event/youth-acting-5-through-12-2/2029-03-24/
END:VEVENT
BEGIN:VEVENT
DTSTART;TZID=America/Los_Angeles:20290324T113000
DTEND;TZID=America/Los_Angeles:20290324T130000
DTSTAMP:20260425T114629
CREATED:20250423T225944Z
LAST-MODIFIED:20250712T181533Z
UID:10005077-1869046200-1869051600@goldmanpennentertainment.com
SUMMARY:Youth Acting (11-17)
DESCRIPTION:
URL:https://goldmanpennentertainment.com/event/youth-acting-11-17/2029-03-24/
END:VEVENT
BEGIN:VEVENT
DTSTART;TZID=America/Los_Angeles:20290331T093000
DTEND;TZID=America/Los_Angeles:20290331T110000
DTSTAMP:20260425T114629
CREATED:20250423T225727Z
LAST-MODIFIED:20250712T181656Z
UID:10005347-1869643800-1869649200@goldmanpennentertainment.com
SUMMARY:Youth Acting (5 through 10)
DESCRIPTION:
URL:https://goldmanpennentertainment.com/event/youth-acting-5-through-12-2/2029-03-31/
END:VEVENT
BEGIN:VEVENT
DTSTART;TZID=America/Los_Angeles:20290331T113000
DTEND;TZID=America/Los_Angeles:20290331T130000
DTSTAMP:20260425T114629
CREATED:20250423T225944Z
LAST-MODIFIED:20250712T181533Z
UID:10005078-1869651000-1869656400@goldmanpennentertainment.com
SUMMARY:Youth Acting (11-17)
DESCRIPTION:
URL:https://goldmanpennentertainment.com/event/youth-acting-11-17/2029-03-31/
END:VEVENT
END:VCALENDAR