BEGIN:VCALENDAR
VERSION:2.0
PRODID:-//Best Acting Classes Near Me - Actors Academy Las Vegas NV - ECPv6.15.20//NONSGML v1.0//EN
CALSCALE:GREGORIAN
METHOD:PUBLISH
X-ORIGINAL-URL:https://goldmanpennentertainment.com
X-WR-CALDESC:Events for Best Acting Classes Near Me - Actors Academy Las Vegas NV
REFRESH-INTERVAL;VALUE=DURATION:PT1H
X-Robots-Tag:noindex
X-PUBLISHED-TTL:PT1H
BEGIN:VTIMEZONE
TZID:America/Los_Angeles
BEGIN:DAYLIGHT
TZOFFSETFROM:-0800
TZOFFSETTO:-0700
TZNAME:PDT
DTSTART:20280312T100000
END:DAYLIGHT
BEGIN:STANDARD
TZOFFSETFROM:-0700
TZOFFSETTO:-0800
TZNAME:PST
DTSTART:20281105T090000
END:STANDARD
BEGIN:DAYLIGHT
TZOFFSETFROM:-0800
TZOFFSETTO:-0700
TZNAME:PDT
DTSTART:20290311T100000
END:DAYLIGHT
BEGIN:STANDARD
TZOFFSETFROM:-0700
TZOFFSETTO:-0800
TZNAME:PST
DTSTART:20291104T090000
END:STANDARD
BEGIN:DAYLIGHT
TZOFFSETFROM:-0800
TZOFFSETTO:-0700
TZNAME:PDT
DTSTART:20300310T100000
END:DAYLIGHT
BEGIN:STANDARD
TZOFFSETFROM:-0700
TZOFFSETTO:-0800
TZNAME:PST
DTSTART:20301103T090000
END:STANDARD
END:VTIMEZONE
BEGIN:VEVENT
DTSTART;TZID=America/Los_Angeles:20290707T093000
DTEND;TZID=America/Los_Angeles:20290707T110000
DTSTAMP:20260425T193401
CREATED:20250423T225727Z
LAST-MODIFIED:20250712T181656Z
UID:10005361-1878111000-1878116400@goldmanpennentertainment.com
SUMMARY:Youth Acting (5 through 10)
DESCRIPTION:
URL:https://goldmanpennentertainment.com/event/youth-acting-5-through-12-2/2029-07-07/
END:VEVENT
BEGIN:VEVENT
DTSTART;TZID=America/Los_Angeles:20290707T113000
DTEND;TZID=America/Los_Angeles:20290707T130000
DTSTAMP:20260425T193401
CREATED:20250423T225944Z
LAST-MODIFIED:20250712T181533Z
UID:10005092-1878118200-1878123600@goldmanpennentertainment.com
SUMMARY:Youth Acting (11-17)
DESCRIPTION:
URL:https://goldmanpennentertainment.com/event/youth-acting-11-17/2029-07-07/
END:VEVENT
BEGIN:VEVENT
DTSTART;TZID=America/Los_Angeles:20290714T093000
DTEND;TZID=America/Los_Angeles:20290714T110000
DTSTAMP:20260425T193401
CREATED:20250423T225727Z
LAST-MODIFIED:20250712T181656Z
UID:10005362-1878715800-1878721200@goldmanpennentertainment.com
SUMMARY:Youth Acting (5 through 10)
DESCRIPTION:
URL:https://goldmanpennentertainment.com/event/youth-acting-5-through-12-2/2029-07-14/
END:VEVENT
BEGIN:VEVENT
DTSTART;TZID=America/Los_Angeles:20290714T113000
DTEND;TZID=America/Los_Angeles:20290714T130000
DTSTAMP:20260425T193401
CREATED:20250423T225944Z
LAST-MODIFIED:20250712T181533Z
UID:10005093-1878723000-1878728400@goldmanpennentertainment.com
SUMMARY:Youth Acting (11-17)
DESCRIPTION:
URL:https://goldmanpennentertainment.com/event/youth-acting-11-17/2029-07-14/
END:VEVENT
BEGIN:VEVENT
DTSTART;TZID=America/Los_Angeles:20290721T093000
DTEND;TZID=America/Los_Angeles:20290721T110000
DTSTAMP:20260425T193401
CREATED:20250423T225727Z
LAST-MODIFIED:20250712T181656Z
UID:10005363-1879320600-1879326000@goldmanpennentertainment.com
SUMMARY:Youth Acting (5 through 10)
DESCRIPTION:
URL:https://goldmanpennentertainment.com/event/youth-acting-5-through-12-2/2029-07-21/
END:VEVENT
BEGIN:VEVENT
DTSTART;TZID=America/Los_Angeles:20290721T113000
DTEND;TZID=America/Los_Angeles:20290721T130000
DTSTAMP:20260425T193401
CREATED:20250423T225944Z
LAST-MODIFIED:20250712T181533Z
UID:10005094-1879327800-1879333200@goldmanpennentertainment.com
SUMMARY:Youth Acting (11-17)
DESCRIPTION:
URL:https://goldmanpennentertainment.com/event/youth-acting-11-17/2029-07-21/
END:VEVENT
BEGIN:VEVENT
DTSTART;TZID=America/Los_Angeles:20290728T093000
DTEND;TZID=America/Los_Angeles:20290728T110000
DTSTAMP:20260425T193401
CREATED:20250423T225727Z
LAST-MODIFIED:20250712T181656Z
UID:10005364-1879925400-1879930800@goldmanpennentertainment.com
SUMMARY:Youth Acting (5 through 10)
DESCRIPTION:
URL:https://goldmanpennentertainment.com/event/youth-acting-5-through-12-2/2029-07-28/
END:VEVENT
BEGIN:VEVENT
DTSTART;TZID=America/Los_Angeles:20290728T113000
DTEND;TZID=America/Los_Angeles:20290728T130000
DTSTAMP:20260425T193401
CREATED:20250423T225944Z
LAST-MODIFIED:20250712T181533Z
UID:10005095-1879932600-1879938000@goldmanpennentertainment.com
SUMMARY:Youth Acting (11-17)
DESCRIPTION:
URL:https://goldmanpennentertainment.com/event/youth-acting-11-17/2029-07-28/
END:VEVENT
END:VCALENDAR