BEGIN:VCALENDAR
VERSION:2.0
PRODID:-//Best Acting Classes Near Me - Actors Academy Las Vegas NV - ECPv6.15.20//NONSGML v1.0//EN
CALSCALE:GREGORIAN
METHOD:PUBLISH
X-WR-CALNAME:Best Acting Classes Near Me - Actors Academy Las Vegas NV
X-ORIGINAL-URL:https://goldmanpennentertainment.com
X-WR-CALDESC:Events for Best Acting Classes Near Me - Actors Academy Las Vegas NV
REFRESH-INTERVAL;VALUE=DURATION:PT1H
X-Robots-Tag:noindex
X-PUBLISHED-TTL:PT1H
BEGIN:VTIMEZONE
TZID:America/Los_Angeles
BEGIN:DAYLIGHT
TZOFFSETFROM:-0800
TZOFFSETTO:-0700
TZNAME:PDT
DTSTART:20250309T100000
END:DAYLIGHT
BEGIN:STANDARD
TZOFFSETFROM:-0700
TZOFFSETTO:-0800
TZNAME:PST
DTSTART:20251102T090000
END:STANDARD
BEGIN:DAYLIGHT
TZOFFSETFROM:-0800
TZOFFSETTO:-0700
TZNAME:PDT
DTSTART:20260308T100000
END:DAYLIGHT
BEGIN:STANDARD
TZOFFSETFROM:-0700
TZOFFSETTO:-0800
TZNAME:PST
DTSTART:20261101T090000
END:STANDARD
BEGIN:DAYLIGHT
TZOFFSETFROM:-0800
TZOFFSETTO:-0700
TZNAME:PDT
DTSTART:20270314T100000
END:DAYLIGHT
BEGIN:STANDARD
TZOFFSETFROM:-0700
TZOFFSETTO:-0800
TZNAME:PST
DTSTART:20271107T090000
END:STANDARD
END:VTIMEZONE
BEGIN:VEVENT
DTSTART;TZID=America/Los_Angeles:20260425T093000
DTEND;TZID=America/Los_Angeles:20260425T110000
DTSTAMP:20260424T204030
CREATED:20250423T225727Z
LAST-MODIFIED:20250712T181656Z
UID:10005194-1777109400-1777114800@goldmanpennentertainment.com
SUMMARY:Youth Acting (5 through 10)
DESCRIPTION:
URL:https://goldmanpennentertainment.com/event/youth-acting-5-through-12-2/2026-04-25/
END:VEVENT
BEGIN:VEVENT
DTSTART;TZID=America/Los_Angeles:20260502T093000
DTEND;TZID=America/Los_Angeles:20260502T110000
DTSTAMP:20260424T204030
CREATED:20250423T225727Z
LAST-MODIFIED:20250712T181656Z
UID:10005195-1777714200-1777719600@goldmanpennentertainment.com
SUMMARY:Youth Acting (5 through 10)
DESCRIPTION:
URL:https://goldmanpennentertainment.com/event/youth-acting-5-through-12-2/2026-05-02/
END:VEVENT
BEGIN:VEVENT
DTSTART;TZID=America/Los_Angeles:20260509T093000
DTEND;TZID=America/Los_Angeles:20260509T110000
DTSTAMP:20260424T204030
CREATED:20250423T225727Z
LAST-MODIFIED:20250712T181656Z
UID:10005196-1778319000-1778324400@goldmanpennentertainment.com
SUMMARY:Youth Acting (5 through 10)
DESCRIPTION:
URL:https://goldmanpennentertainment.com/event/youth-acting-5-through-12-2/2026-05-09/
END:VEVENT
BEGIN:VEVENT
DTSTART;TZID=America/Los_Angeles:20260516T093000
DTEND;TZID=America/Los_Angeles:20260516T110000
DTSTAMP:20260424T204030
CREATED:20250423T225727Z
LAST-MODIFIED:20250712T181656Z
UID:10005197-1778923800-1778929200@goldmanpennentertainment.com
SUMMARY:Youth Acting (5 through 10)
DESCRIPTION:
URL:https://goldmanpennentertainment.com/event/youth-acting-5-through-12-2/2026-05-16/
END:VEVENT
BEGIN:VEVENT
DTSTART;TZID=America/Los_Angeles:20260523T093000
DTEND;TZID=America/Los_Angeles:20260523T110000
DTSTAMP:20260424T204030
CREATED:20250423T225727Z
LAST-MODIFIED:20250712T181656Z
UID:10005198-1779528600-1779534000@goldmanpennentertainment.com
SUMMARY:Youth Acting (5 through 10)
DESCRIPTION:
URL:https://goldmanpennentertainment.com/event/youth-acting-5-through-12-2/2026-05-23/
END:VEVENT
BEGIN:VEVENT
DTSTART;TZID=America/Los_Angeles:20260530T093000
DTEND;TZID=America/Los_Angeles:20260530T110000
DTSTAMP:20260424T204030
CREATED:20250423T225727Z
LAST-MODIFIED:20250712T181656Z
UID:10005199-1780133400-1780138800@goldmanpennentertainment.com
SUMMARY:Youth Acting (5 through 10)
DESCRIPTION:
URL:https://goldmanpennentertainment.com/event/youth-acting-5-through-12-2/2026-05-30/
END:VEVENT
BEGIN:VEVENT
DTSTART;TZID=America/Los_Angeles:20260606T093000
DTEND;TZID=America/Los_Angeles:20260606T110000
DTSTAMP:20260424T204030
CREATED:20250423T225727Z
LAST-MODIFIED:20250712T181656Z
UID:10005200-1780738200-1780743600@goldmanpennentertainment.com
SUMMARY:Youth Acting (5 through 10)
DESCRIPTION:
URL:https://goldmanpennentertainment.com/event/youth-acting-5-through-12-2/2026-06-06/
END:VEVENT
BEGIN:VEVENT
DTSTART;TZID=America/Los_Angeles:20260613T093000
DTEND;TZID=America/Los_Angeles:20260613T110000
DTSTAMP:20260424T204030
CREATED:20250423T225727Z
LAST-MODIFIED:20250712T181656Z
UID:10005201-1781343000-1781348400@goldmanpennentertainment.com
SUMMARY:Youth Acting (5 through 10)
DESCRIPTION:
URL:https://goldmanpennentertainment.com/event/youth-acting-5-through-12-2/2026-06-13/
END:VEVENT
BEGIN:VEVENT
DTSTART;TZID=America/Los_Angeles:20260620T093000
DTEND;TZID=America/Los_Angeles:20260620T110000
DTSTAMP:20260424T204030
CREATED:20250423T225727Z
LAST-MODIFIED:20250712T181656Z
UID:10005202-1781947800-1781953200@goldmanpennentertainment.com
SUMMARY:Youth Acting (5 through 10)
DESCRIPTION:
URL:https://goldmanpennentertainment.com/event/youth-acting-5-through-12-2/2026-06-20/
END:VEVENT
BEGIN:VEVENT
DTSTART;TZID=America/Los_Angeles:20260627T093000
DTEND;TZID=America/Los_Angeles:20260627T110000
DTSTAMP:20260424T204030
CREATED:20250423T225727Z
LAST-MODIFIED:20250712T181656Z
UID:10005203-1782552600-1782558000@goldmanpennentertainment.com
SUMMARY:Youth Acting (5 through 10)
DESCRIPTION:
URL:https://goldmanpennentertainment.com/event/youth-acting-5-through-12-2/2026-06-27/
END:VEVENT
BEGIN:VEVENT
DTSTART;TZID=America/Los_Angeles:20260704T093000
DTEND;TZID=America/Los_Angeles:20260704T110000
DTSTAMP:20260424T204030
CREATED:20250423T225727Z
LAST-MODIFIED:20250712T181656Z
UID:10005204-1783157400-1783162800@goldmanpennentertainment.com
SUMMARY:Youth Acting (5 through 10)
DESCRIPTION:
URL:https://goldmanpennentertainment.com/event/youth-acting-5-through-12-2/2026-07-04/
END:VEVENT
BEGIN:VEVENT
DTSTART;TZID=America/Los_Angeles:20260711T093000
DTEND;TZID=America/Los_Angeles:20260711T110000
DTSTAMP:20260424T204030
CREATED:20250423T225727Z
LAST-MODIFIED:20250712T181656Z
UID:10005205-1783762200-1783767600@goldmanpennentertainment.com
SUMMARY:Youth Acting (5 through 10)
DESCRIPTION:
URL:https://goldmanpennentertainment.com/event/youth-acting-5-through-12-2/2026-07-11/
END:VEVENT
BEGIN:VEVENT
DTSTART;TZID=America/Los_Angeles:20260718T093000
DTEND;TZID=America/Los_Angeles:20260718T110000
DTSTAMP:20260424T204030
CREATED:20250423T225727Z
LAST-MODIFIED:20250712T181656Z
UID:10005206-1784367000-1784372400@goldmanpennentertainment.com
SUMMARY:Youth Acting (5 through 10)
DESCRIPTION:
URL:https://goldmanpennentertainment.com/event/youth-acting-5-through-12-2/2026-07-18/
END:VEVENT
BEGIN:VEVENT
DTSTART;TZID=America/Los_Angeles:20260725T093000
DTEND;TZID=America/Los_Angeles:20260725T110000
DTSTAMP:20260424T204030
CREATED:20250423T225727Z
LAST-MODIFIED:20250712T181656Z
UID:10005207-1784971800-1784977200@goldmanpennentertainment.com
SUMMARY:Youth Acting (5 through 10)
DESCRIPTION:
URL:https://goldmanpennentertainment.com/event/youth-acting-5-through-12-2/2026-07-25/
END:VEVENT
BEGIN:VEVENT
DTSTART;TZID=America/Los_Angeles:20260801T093000
DTEND;TZID=America/Los_Angeles:20260801T110000
DTSTAMP:20260424T204030
CREATED:20250423T225727Z
LAST-MODIFIED:20250712T181656Z
UID:10005208-1785576600-1785582000@goldmanpennentertainment.com
SUMMARY:Youth Acting (5 through 10)
DESCRIPTION:
URL:https://goldmanpennentertainment.com/event/youth-acting-5-through-12-2/2026-08-01/
END:VEVENT
BEGIN:VEVENT
DTSTART;TZID=America/Los_Angeles:20260808T093000
DTEND;TZID=America/Los_Angeles:20260808T110000
DTSTAMP:20260424T204030
CREATED:20250423T225727Z
LAST-MODIFIED:20250712T181656Z
UID:10005209-1786181400-1786186800@goldmanpennentertainment.com
SUMMARY:Youth Acting (5 through 10)
DESCRIPTION:
URL:https://goldmanpennentertainment.com/event/youth-acting-5-through-12-2/2026-08-08/
END:VEVENT
BEGIN:VEVENT
DTSTART;TZID=America/Los_Angeles:20260815T093000
DTEND;TZID=America/Los_Angeles:20260815T110000
DTSTAMP:20260424T204030
CREATED:20250423T225727Z
LAST-MODIFIED:20250712T181656Z
UID:10005210-1786786200-1786791600@goldmanpennentertainment.com
SUMMARY:Youth Acting (5 through 10)
DESCRIPTION:
URL:https://goldmanpennentertainment.com/event/youth-acting-5-through-12-2/2026-08-15/
END:VEVENT
BEGIN:VEVENT
DTSTART;TZID=America/Los_Angeles:20260822T093000
DTEND;TZID=America/Los_Angeles:20260822T110000
DTSTAMP:20260424T204030
CREATED:20250423T225727Z
LAST-MODIFIED:20250712T181656Z
UID:10005211-1787391000-1787396400@goldmanpennentertainment.com
SUMMARY:Youth Acting (5 through 10)
DESCRIPTION:
URL:https://goldmanpennentertainment.com/event/youth-acting-5-through-12-2/2026-08-22/
END:VEVENT
BEGIN:VEVENT
DTSTART;TZID=America/Los_Angeles:20260829T093000
DTEND;TZID=America/Los_Angeles:20260829T110000
DTSTAMP:20260424T204030
CREATED:20250423T225727Z
LAST-MODIFIED:20250712T181656Z
UID:10005212-1787995800-1788001200@goldmanpennentertainment.com
SUMMARY:Youth Acting (5 through 10)
DESCRIPTION:
URL:https://goldmanpennentertainment.com/event/youth-acting-5-through-12-2/2026-08-29/
END:VEVENT
BEGIN:VEVENT
DTSTART;TZID=America/Los_Angeles:20260905T093000
DTEND;TZID=America/Los_Angeles:20260905T110000
DTSTAMP:20260424T204030
CREATED:20250423T225727Z
LAST-MODIFIED:20250712T181656Z
UID:10005213-1788600600-1788606000@goldmanpennentertainment.com
SUMMARY:Youth Acting (5 through 10)
DESCRIPTION:
URL:https://goldmanpennentertainment.com/event/youth-acting-5-through-12-2/2026-09-05/
END:VEVENT
BEGIN:VEVENT
DTSTART;TZID=America/Los_Angeles:20260912T093000
DTEND;TZID=America/Los_Angeles:20260912T110000
DTSTAMP:20260424T204030
CREATED:20250423T225727Z
LAST-MODIFIED:20250712T181656Z
UID:10005214-1789205400-1789210800@goldmanpennentertainment.com
SUMMARY:Youth Acting (5 through 10)
DESCRIPTION:
URL:https://goldmanpennentertainment.com/event/youth-acting-5-through-12-2/2026-09-12/
END:VEVENT
BEGIN:VEVENT
DTSTART;TZID=America/Los_Angeles:20260919T093000
DTEND;TZID=America/Los_Angeles:20260919T110000
DTSTAMP:20260424T204030
CREATED:20250423T225727Z
LAST-MODIFIED:20250712T181656Z
UID:10005215-1789810200-1789815600@goldmanpennentertainment.com
SUMMARY:Youth Acting (5 through 10)
DESCRIPTION:
URL:https://goldmanpennentertainment.com/event/youth-acting-5-through-12-2/2026-09-19/
END:VEVENT
BEGIN:VEVENT
DTSTART;TZID=America/Los_Angeles:20260926T093000
DTEND;TZID=America/Los_Angeles:20260926T110000
DTSTAMP:20260424T204030
CREATED:20250423T225727Z
LAST-MODIFIED:20250712T181656Z
UID:10005216-1790415000-1790420400@goldmanpennentertainment.com
SUMMARY:Youth Acting (5 through 10)
DESCRIPTION:
URL:https://goldmanpennentertainment.com/event/youth-acting-5-through-12-2/2026-09-26/
END:VEVENT
BEGIN:VEVENT
DTSTART;TZID=America/Los_Angeles:20261003T093000
DTEND;TZID=America/Los_Angeles:20261003T110000
DTSTAMP:20260424T204030
CREATED:20250423T225727Z
LAST-MODIFIED:20250712T181656Z
UID:10005217-1791019800-1791025200@goldmanpennentertainment.com
SUMMARY:Youth Acting (5 through 10)
DESCRIPTION:
URL:https://goldmanpennentertainment.com/event/youth-acting-5-through-12-2/2026-10-03/
END:VEVENT
BEGIN:VEVENT
DTSTART;TZID=America/Los_Angeles:20261010T093000
DTEND;TZID=America/Los_Angeles:20261010T110000
DTSTAMP:20260424T204030
CREATED:20250423T225727Z
LAST-MODIFIED:20250712T181656Z
UID:10005218-1791624600-1791630000@goldmanpennentertainment.com
SUMMARY:Youth Acting (5 through 10)
DESCRIPTION:
URL:https://goldmanpennentertainment.com/event/youth-acting-5-through-12-2/2026-10-10/
END:VEVENT
BEGIN:VEVENT
DTSTART;TZID=America/Los_Angeles:20261017T093000
DTEND;TZID=America/Los_Angeles:20261017T110000
DTSTAMP:20260424T204030
CREATED:20250423T225727Z
LAST-MODIFIED:20250712T181656Z
UID:10005219-1792229400-1792234800@goldmanpennentertainment.com
SUMMARY:Youth Acting (5 through 10)
DESCRIPTION:
URL:https://goldmanpennentertainment.com/event/youth-acting-5-through-12-2/2026-10-17/
END:VEVENT
BEGIN:VEVENT
DTSTART;TZID=America/Los_Angeles:20261024T093000
DTEND;TZID=America/Los_Angeles:20261024T110000
DTSTAMP:20260424T204030
CREATED:20250423T225727Z
LAST-MODIFIED:20250712T181656Z
UID:10005220-1792834200-1792839600@goldmanpennentertainment.com
SUMMARY:Youth Acting (5 through 10)
DESCRIPTION:
URL:https://goldmanpennentertainment.com/event/youth-acting-5-through-12-2/2026-10-24/
END:VEVENT
BEGIN:VEVENT
DTSTART;TZID=America/Los_Angeles:20261031T093000
DTEND;TZID=America/Los_Angeles:20261031T110000
DTSTAMP:20260424T204030
CREATED:20250423T225727Z
LAST-MODIFIED:20250712T181656Z
UID:10005221-1793439000-1793444400@goldmanpennentertainment.com
SUMMARY:Youth Acting (5 through 10)
DESCRIPTION:
URL:https://goldmanpennentertainment.com/event/youth-acting-5-through-12-2/2026-10-31/
END:VEVENT
BEGIN:VEVENT
DTSTART;TZID=America/Los_Angeles:20261107T093000
DTEND;TZID=America/Los_Angeles:20261107T110000
DTSTAMP:20260424T204030
CREATED:20250423T225727Z
LAST-MODIFIED:20250712T181656Z
UID:10005222-1794043800-1794049200@goldmanpennentertainment.com
SUMMARY:Youth Acting (5 through 10)
DESCRIPTION:
URL:https://goldmanpennentertainment.com/event/youth-acting-5-through-12-2/2026-11-07/
END:VEVENT
BEGIN:VEVENT
DTSTART;TZID=America/Los_Angeles:20261114T093000
DTEND;TZID=America/Los_Angeles:20261114T110000
DTSTAMP:20260424T204030
CREATED:20250423T225727Z
LAST-MODIFIED:20250712T181656Z
UID:10005223-1794648600-1794654000@goldmanpennentertainment.com
SUMMARY:Youth Acting (5 through 10)
DESCRIPTION:
URL:https://goldmanpennentertainment.com/event/youth-acting-5-through-12-2/2026-11-14/
END:VEVENT
END:VCALENDAR